BEGIN:VCALENDAR
VERSION:2.0
PRODID:-//PHOTOEXP攝影探索 - ECPv6.15.20//NONSGML v1.0//EN
CALSCALE:GREGORIAN
METHOD:PUBLISH
X-ORIGINAL-URL:https://photoexp.com.tw
X-WR-CALDESC:Events for PHOTOEXP攝影探索
REFRESH-INTERVAL;VALUE=DURATION:PT1H
X-Robots-Tag:noindex
X-PUBLISHED-TTL:PT1H
BEGIN:VTIMEZONE
TZID:Asia/Taipei
BEGIN:STANDARD
TZOFFSETFROM:+0800
TZOFFSETTO:+0800
TZNAME:CST
DTSTART:20290101T000000
END:STANDARD
END:VTIMEZONE
BEGIN:VEVENT
DTSTART;VALUE=DATE:20300510
DTEND;VALUE=DATE:20300516
DTSTAMP:20260419T230434
CREATED:20221208T143121Z
LAST-MODIFIED:20250408T155421Z
UID:4133-1904601600-1905119999@photoexp.com.tw
SUMMARY:馬祖藍眼淚 東引、東莒5日5夜攝影團(已結束，歡迎客制化包團)
DESCRIPTION:※本團特色：\n被CNN列為世界15大奇景之一的「 馬祖藍眼淚 」，一整片淡藍色光芒點綴著馬祖的海岸，是馬祖最令人沉醉著迷的美景。每年春夏（4~6月）正是馬祖 藍眼淚大爆發的季節，是最適合追「淚」的時候，而藍眼淚會受到天氣、海洋的條件影響，是可遇不可求的浪漫藍光。\n我們特別選定了適合拍攝星空日期與適合追淚的潮汐，並安排船去機回的交通方式，讓大家可以增加在離島上的時間，盡情的拍攝藍眼淚！ \n※行程安排：\n5/10(五)晚上20:00 基隆港西岸旅客碼頭二樓集合搭船。\n5/11(六)基隆-東引，接駁行李至飯店。東引一日拍攝(白天勘景、晚上拍攝藍眼淚)。\n5/12(日)東引一日拍攝(白天勘景、晚上拍攝藍眼淚)。\n5/13(一)東引-南竿，南竿-東莒，午餐。東莒一日拍攝(白天勘景、晚上拍攝藍眼淚)。\n5/14(二)東莒一日拍攝(白天勘景、晚上拍攝藍眼淚)。\n5/15(三)東莒-南竿。碼頭接駁車上行李後，先午餐、購物站，到機場。\n※船班時間及航班時間僅供參考，以實際預訂到的時間為主，敬請知悉。 \n【東引/東莒拍攝主題】\n※東引藍眼淚拍攝點：國之北疆、東引燈塔、北澳沙灘、中柱堤、北海坑道。\n※東莒藍眼淚拍攝點：大砲連3處、福正沙灘3處、神秘小海灣、猛澳港、大埔港、大埔石刻。\n※當晚拍攝藍眼淚(約3小時)，時間、地點視當日潮汐、風向、月相，由老師彈性安排、變動拍攝點。 \n \n※參團費用\n●單人房售價：\n●雙人房售價： \n※費用包含\n【船資】基隆-東引 臺馬之星或臺馬輪臥舖經濟艙單人床(上下舖)\n【車資】東引島上機車租借二日費用(兩人一台)、東莒島上機車租借二日費用(兩人一台)\n【機票】南竿-松山單程機票(以收作業金預訂作業後回覆為主，敬請知悉）\n【餐食】如行程表所列\n【住宿】東引住宿兩晚+東莒住宿兩晚\n【學費】攝影老師韋琪教學費\n【差費】領隊五日出差費與小費\n【保險】200萬意外險，20萬醫療險 \n●費用不含\n＊個人因素所產生之消費，如飲料、私人購物費…等。\n＊個人旅遊平安保險，依規定旅客若有個別需求，得自行投保旅行平安保險。\n＊本行程表上未註明之各項開銷，建議、自費或自由行程所衍生之任何費用。 \n※立即線上報名：報名已結束。2025歡迎客制化包團。\n※活動承辦：動感旅行社股份有限公司 Taiwan Pulse Tour Co.\, Ltd.\n交觀甲4609號 / 品保新0104號\n電話：03 658 1578\n傳真：03 516 2768\n信箱：info@taiwanpulse.com \n \n※本團拍攝作品參考
URL:https://photoexp.com.tw/event/202405matsu/
LOCATION:馬祖\, 連江縣\, 台灣
CATEGORIES:國內旅遊攝影
ATTACH;FMTTYPE=image/jpeg:https://photoexp.com.tw/wp-content/uploads/2022/12/IMG_9640.jpg
END:VEVENT
BEGIN:VEVENT
DTSTART;VALUE=DATE:20300517
DTEND;VALUE=DATE:20300523
DTSTAMP:20260419T230434
CREATED:20221208T140814Z
LAST-MODIFIED:20250408T155356Z
UID:4132-1905206400-1905724799@photoexp.com.tw
SUMMARY:馬祖藍眼淚 東莒、南竿、北竿5日5夜攝影團(已結束，歡迎客制化包團)
DESCRIPTION:※本團特色：\n被CNN列為世界15大奇景之一的「 馬祖藍眼淚 」，一整片淡藍色光芒點綴著馬祖的海岸，是馬祖最令人沉醉著迷的美景。每年春夏（4~6月）正是馬祖 藍眼淚大爆發的季節，是最適合追「淚」的時候，而藍眼淚會受到天氣、海洋的條件影響，是可遇不可求的浪漫藍光。\n我們特別選定了適合拍攝星空日期與適合追淚的潮汐，並安排船去機回的交通方式，讓大家可以增加在離島上的時間，盡情的拍攝藍眼淚！ \n※行程安排：\n5/31(五)晚上20:00 基隆港西岸旅客碼頭二樓集合搭船。\n6/01(六)基隆-南竿，接駁至民宿。南竿一日拍攝(白天勘景、晚上拍攝藍眼淚)。\n6/02(日)南竿-北竿。北竿一日拍攝(白天勘景、晚上拍攝藍眼淚)。\n6/03(一)北竿-南竿，南竿-東莒。東莒一日拍攝(白天勘景、晚上拍攝藍眼淚)。\n6/04(二)東莒一日拍攝(白天勘景、晚上拍攝藍眼淚)。\n6/05(三)東莒-南竿。碼頭接駁車上行李後，先午餐、購物站，到機場。 \n【南竿/北竿/東莒拍攝主題】\n※南竿藍眼淚拍攝：北海坑道、八八坑道、鐵堡、大漢據點、珠螺灣、津沙沙灘。\n※北竿藍眼淚拍攝：馬鼻灣、芹壁沙灘、塘后沙灘、戰爭和平紀念館、坂里沙灘。\n※東莒藍眼淚拍攝點：大砲連3處、福正沙灘3處、神秘小海灣、猛澳港、大埔港、大埔石刻。\n※當晚拍攝藍眼淚(約3小時)，時間、地點視當日潮汐、風向、月相，由老師彈性安排、變動拍攝點。 \n \n※參團費用\n●單人房售價：30\,900元/人。\n●雙人房售價：25\,000元/人。 \n※費用包含\n【船資】基隆-南竿 臺馬之星或臺馬輪臥舖經濟艙單人床(上下舖)\n【車資】南竿島上機車租借一日費用(兩人一台)、北竿島上機車租借一日費用(兩人一台)、東莒島上機車租借二日費用(兩人一台)\n【機票】南竿-松山單程機票(以收作業金預訂作業後回覆為主，敬請知悉）\n【餐食】如行程表所列\n【住宿】南竿住宿一晚+北竿住宿一晚+東莒住宿兩晚\n【學費】攝影老師韋琪教學費\n【差費】領隊五日出差費與小費\n【保險】200萬意外險，20萬醫療險 \n●費用不含\n＊個人因素所產生之消費，如飲料、私人購物費…等。\n＊個人旅遊平安保險，依規定旅客若有個別需求，得自行投保旅行平安保險。\n＊本行程表上未註明之各項開銷，建議、自費或自由行程所衍生之任何費用。 \n※旅行社線上行程：https://taiwanpulse.com/tw/tour/theme/A0204-FTW5/draft\n※立即線上報名：https://bit.ly/2024matsu06\n※行程說明：以上行程，攝影老師可依出團日實際天氣況狀，以攝影為優先考量做適度調整。\n※活動承辦：動感旅行社股份有限公司 Taiwan Pulse Tour Co.\, Ltd.\n交觀甲4609號 / 品保新0104號\n電話：03 658 1578\n傳真：03 516 2768\n信箱：info@taiwanpulse.com \n \n※本團拍攝作品參考
URL:https://photoexp.com.tw/event/202406matsu/
LOCATION:馬祖\, 連江縣\, 台灣
CATEGORIES:國內旅遊攝影
ATTACH;FMTTYPE=image/jpeg:https://photoexp.com.tw/wp-content/uploads/2022/12/IMG_9637.jpg
END:VEVENT
END:VCALENDAR