BEGIN:VCALENDAR
VERSION:2.0
PRODID:-//PHOTOEXP攝影探索 - ECPv6.15.20//NONSGML v1.0//EN
CALSCALE:GREGORIAN
METHOD:PUBLISH
X-ORIGINAL-URL:https://photoexp.com.tw
X-WR-CALDESC:Events for PHOTOEXP攝影探索
REFRESH-INTERVAL;VALUE=DURATION:PT1H
X-Robots-Tag:noindex
X-PUBLISHED-TTL:PT1H
BEGIN:VTIMEZONE
TZID:Asia/Taipei
BEGIN:STANDARD
TZOFFSETFROM:+0800
TZOFFSETTO:+0800
TZNAME:CST
DTSTART:20290101T000000
END:STANDARD
END:VTIMEZONE
BEGIN:VEVENT
DTSTART;VALUE=DATE:20300519
DTEND;VALUE=DATE:20300522
DTSTAMP:20260419T230157
CREATED:20220323T161954Z
LAST-MODIFIED:20250408T160740Z
UID:908-1905379200-1905638399@photoexp.com.tw
SUMMARY:合歡山高山杜鵑、福壽山魯冰花銀河  三日二夜(已結束，歡迎客制化包團)
DESCRIPTION:※本團特色：\n5月是台灣高山一年之中最美麗的季節，潔淨透白的玉山杜鵑（別名森氏杜鵑）綻放枝頭形成美麗的粉白色花海，全台中高海拔的山區幾乎都可看見她的蹤跡，其中又以開車即可抵達的合歡群峰，花況絕佳而且容易親近。\n為此，我們特別安排在中高海拔的觀星園先住一晚，拍攝星空、清境琉璃光夜景，也順便讓團員適應高海拔氣壓，降低高山症可能引起的不適。 \n第二日凌晨時刻，韋琪老師即帶領大家前往合歡山找尋美麗的玉山杜鵑花海蹤跡，從深夜的月光、星空到美麗的魔幻藍調、日出霞光，待上整整半天的時間，完整的記錄合歡山杜鵑花季夜與日的美。 \n離開合歡山後，繼續前往福壽山農場，5月的福壽山，有著鮮少人拍攝的花海與秘境銀河。當陽光灑下照耀在色彩豐富鮮豔的魯冰花花海時，彷彿一秒來到了紐西蘭，盡是異國的唯美與浪漫風情。\n當天則安排入住福壽山露營區，韋琪老師也會帶領大家走出房門，拍攝福壽山農場才有的蘋果屋星軌銀河、露營區水池橫向銀河倒影。收穫滿滿的三天行程，絕對值得您報名參與。 \n ※因考量拍攝品質，本團最多僅收19人。 \n福壽山魯冰花花海\n※行程安排：\n《第一天》\n06:30 台北車站集合。\n07:00 台北車站出發（沿途停靠桃園南崁交流道、新竹交流道、台中烏日高鐵站接駁外縣市團員）。\n11:30～13:00 清境地區午餐合菜。午餐後至便利商店採購個人需要物資（建議可準備一些隨身零食、飲料）。\n14:00～15:00 抵達民宿-觀星園，進房休息，儲備體力與高度適應。\n17:00~18:00觀星園晚餐火鍋，安排兩人一鍋。\n18:30~20:00 拍攝清境山城夜景、雲海琉璃光。\n20:00 儲備隔日拍攝體能，請提早就寢休息。\n夜宿：觀星園。 \n《第二天》\n00:30～01:00 起床整裝後出發（民宿提供早餐餐盒）。\n02:00-10:00 拍攝合歡山杜鵑星空、色溫、日出，由老師視當下花況，安排前往石門山或合歡東峰拍攝。日出後拍攝日光版花海、山景。\n10:00 離開前往梨山。\n12:00-13:00梨山午餐合菜\n15:00 福壽山農場蘋果屋，簡單導覽熟悉環境後提早休息。因夜晚拍攝及司機工時考量，晚餐敬請自理。\n※特別提醒：本日晚餐請自理。\n※特別提醒：福壽山農場露營區蘋果屋為兩人一室雅房，浴廁需使用公共衛浴設備（乾淨安全），若無法接受者請勿報名。\n21:30-24:00拍攝蘋果屋星軌、露營區水池銀河、魯冰花銀河、秘境水池銀河，拍攝完後回房稍做休息。\n夜宿：福壽山農場蘋果屋。 \n《第三天》\n05:00-07:00 拍攝魯冰花日出。\n07:00-08:00福壽山早餐，早餐後回房休息補眠。\n11:00蘋果屋退房後離開。\n13:00南山村午餐。\n17:00 返抵台北車站，結束行程。\n※特別提醒：由於本次行程僅至台北結束，外縣市參與者請自行安排後續返家行程。 \n※參團費用\n●單人房：\n●雙人房： \n※費用包含\n【交通】豪華九人座車資、停車費等\n【餐食】如行程表所列\n【住宿】清境觀星園（第一日）、福壽山露營區蘋果屋（第二日）\n【學費】攝影老師韋琪教學費\n【差費】司機及領隊三日出差費與小費\n【其它】礦泉水每人每天一瓶\n【保險】200萬意外險，20萬醫療險 \n●費用不含\n＊個人因素所產生之消費，如飲料、私人購物費…等。\n＊個人旅遊平安保險，依規定旅客若有個別需求，得自行投保旅行平安保險。\n＊本行程表上未註明之各項開銷，建議、自費或自由行程所衍生之任何費用。 \n※立即線上報名：\n※行程說明：以上行程，攝影老師可依出團日實際天氣況狀，以攝影為優先考量做適度調整。\n※活動承辦：動感旅行社股份有限公司 Taiwan Pulse Tour Co.\, Ltd.\n交觀甲4609號 / 品保新0104號\n電話：03 658 1578\n傳真：03 516 2768\n信箱：info@taiwanpulse.com \n※本團拍攝作品參考\n清境琉璃光\n福壽山露營區銀河\n\n			\n				\n			\n				\n				福壽山蘋果屋星軌\n				\n			\n				\n			\n				\n				福壽山蘋果屋銀河\n				\n			\n				\n			\n			\n				\n			\n				\n				合歡山高山杜鵑\n				\n			\n				\n			\n				\n				合歡山高山杜鵑\n				\n			\n				\n			\n				\n				合歡山高山杜鵑
URL:https://photoexp.com.tw/event/lubinghua/
LOCATION:合歡東峰\, 台灣
CATEGORIES:國內旅遊攝影
ATTACH;FMTTYPE=image/jpeg:https://photoexp.com.tw/wp-content/uploads/2022/03/IMG_5824.jpg
END:VEVENT
END:VCALENDAR